BEGIN:VCALENDAR
VERSION:2.0
PRODID:-//Department Of Education//63bebde7-919c-49a9-a4e7-01b4601a71d2
BEGIN:VTIMEZONE
TZID:Australia/Sydney
TZURL:http://tzurl.org/zoneinfo-outlook/Australia/Sydney
X-LIC-LOCATION:Australia/Sydney
BEGIN:STANDARD
TZOFFSETFROM:+1100
TZOFFSETTO:+1000
TZNAME:AEST
DTSTART:19700405T030000
RRULE:FREQ=YEARLY;BYMONTH=4;BYDAY=1SU
END:STANDARD
BEGIN:DAYLIGHT
TZOFFSETFROM:+1000
TZOFFSETTO:+1100
TZNAME:AEDT
DTSTART:19701004T020000
RRULE:FREQ=YEARLY;BYMONTH=10;BYDAY=1SU
END:DAYLIGHT
END:VTIMEZONE
CALSCALE:GREGORIAN
X-WR-TIMEZONE:Australia/Sydney
BEGIN:VEVENT
DTSTART;TZID=Australia/Sydney:20200407T093000
DTEND;TZID=Australia/Sydney:20200407T121500
DTSTAMP:20200407T000000Z
UID:ec025184-b228-41d4-a9c8-ca445d40c92d
LOCATION:Penrith Paceway
SUMMARY;LANGUAGE=en-us:Student ANZAC Service Year 3-6
SEQUENCE:0
DESCRIPTION:2020 Student Anzac Service Year 3-6
END:VEVENT
TRANSP:TRANSPARENT
END:VCALENDAR
