BEGIN:VCALENDAR
VERSION:2.0
PRODID:-//Department Of Education//f6adeb57-b7a8-4627-ad5b-934b3d11e0da
BEGIN:VTIMEZONE
TZID:Australia/Sydney
TZURL:http://tzurl.org/zoneinfo-outlook/Australia/Sydney
X-LIC-LOCATION:Australia/Sydney
BEGIN:STANDARD
TZOFFSETFROM:+1100
TZOFFSETTO:+1000
TZNAME:AEST
DTSTART:19700405T030000
RRULE:FREQ=YEARLY;BYMONTH=4;BYDAY=1SU
END:STANDARD
BEGIN:DAYLIGHT
TZOFFSETFROM:+1000
TZOFFSETTO:+1100
TZNAME:AEDT
DTSTART:19701004T020000
RRULE:FREQ=YEARLY;BYMONTH=10;BYDAY=1SU
END:DAYLIGHT
END:VTIMEZONE
CALSCALE:GREGORIAN
X-WR-TIMEZONE:Australia/Sydney
BEGIN:VEVENT
DTSTART;VALUE=DATE:20200313
DTEND;VALUE=DATE:20200314
DTSTAMP:20200313T000000Z
UID:7473a7bb-69b2-4efa-a733-c26e3153c563
LOCATION:Mulgoa Public School
SUMMARY;LANGUAGE=en-us:School Photos
SEQUENCE:0
DESCRIPTION:Photo Day
END:VEVENT
TRANSP:TRANSPARENT
END:VCALENDAR
