BEGIN:VCALENDAR
VERSION:2.0
PRODID:-//Department Of Education//ff60cec6-5cf5-436c-9567-f8823da4dcb5
BEGIN:VTIMEZONE
TZID:Australia/Sydney
TZURL:http://tzurl.org/zoneinfo-outlook/Australia/Sydney
X-LIC-LOCATION:Australia/Sydney
BEGIN:STANDARD
TZOFFSETFROM:+1100
TZOFFSETTO:+1000
TZNAME:AEST
DTSTART:19700405T030000
RRULE:FREQ=YEARLY;BYMONTH=4;BYDAY=1SU
END:STANDARD
BEGIN:DAYLIGHT
TZOFFSETFROM:+1000
TZOFFSETTO:+1100
TZNAME:AEDT
DTSTART:19701004T020000
RRULE:FREQ=YEARLY;BYMONTH=10;BYDAY=1SU
END:DAYLIGHT
END:VTIMEZONE
CALSCALE:GREGORIAN
X-WR-TIMEZONE:Australia/Sydney
BEGIN:VEVENT
DTSTART;TZID=Australia/Sydney:20200310T193000
DTEND;TZID=Australia/Sydney:20200310T203000
DTSTAMP:20200310T000000Z
UID:32d2cb3a-e310-4061-9f68-24ea53c197c7
LOCATION:Big Staff Room
SUMMARY;LANGUAGE=en-us:P&C Meeting
SEQUENCE:0
DESCRIPTION:P&C Meeting
END:VEVENT
TRANSP:TRANSPARENT
END:VCALENDAR
