BEGIN:VCALENDAR
VERSION:2.0
PRODID:-//Department Of Education//488b6a1b-bb25-4738-bea9-bfb3b6347e30
BEGIN:VTIMEZONE
TZID:Australia/Sydney
TZURL:http://tzurl.org/zoneinfo-outlook/Australia/Sydney
X-LIC-LOCATION:Australia/Sydney
BEGIN:STANDARD
TZOFFSETFROM:+1100
TZOFFSETTO:+1000
TZNAME:AEST
DTSTART:19700405T030000
RRULE:FREQ=YEARLY;BYMONTH=4;BYDAY=1SU
END:STANDARD
BEGIN:DAYLIGHT
TZOFFSETFROM:+1000
TZOFFSETTO:+1100
TZNAME:AEDT
DTSTART:19701004T020000
RRULE:FREQ=YEARLY;BYMONTH=10;BYDAY=1SU
END:DAYLIGHT
END:VTIMEZONE
CALSCALE:GREGORIAN
X-WR-TIMEZONE:Australia/Sydney
BEGIN:VEVENT
DTSTART;VALUE=DATE:20200326
DTEND;VALUE=DATE:20200327
DTSTAMP:20200326T000000Z
UID:26c22efc-6d42-44ab-98a9-8ce2ef7daabe
LOCATION:TBA
SUMMARY;LANGUAGE=en-us:NVSS Cross Country Carnival - Invite ONLY
SEQUENCE:0
DESCRIPTION:Nepean Valley Small School (NVSS) Cross Country Carnival -Invite ONLY location TBA 
END:VEVENT
TRANSP:TRANSPARENT
END:VCALENDAR
