BEGIN:VCALENDAR
VERSION:2.0
PRODID:-//Department Of Education//03dcb0ec-1c2d-40f2-9e40-83582d4426ec
BEGIN:VTIMEZONE
TZID:Australia/Sydney
TZURL:http://tzurl.org/zoneinfo-outlook/Australia/Sydney
X-LIC-LOCATION:Australia/Sydney
BEGIN:STANDARD
TZOFFSETFROM:+1100
TZOFFSETTO:+1000
TZNAME:AEST
DTSTART:19700405T030000
RRULE:FREQ=YEARLY;BYMONTH=4;BYDAY=1SU
END:STANDARD
BEGIN:DAYLIGHT
TZOFFSETFROM:+1000
TZOFFSETTO:+1100
TZNAME:AEDT
DTSTART:19701004T020000
RRULE:FREQ=YEARLY;BYMONTH=10;BYDAY=1SU
END:DAYLIGHT
END:VTIMEZONE
CALSCALE:GREGORIAN
X-WR-TIMEZONE:Australia/Sydney
BEGIN:VEVENT
DTSTART;VALUE=DATE:20200311
DTEND;VALUE=DATE:20200312
DTSTAMP:20200311T000000Z
UID:07e5cc98-1085-46cf-ae6c-faffd89ffadd
LOCATION:Mulgoa Public School
SUMMARY;LANGUAGE=en-us:MPS Cross Country Carnival
SEQUENCE:0
DESCRIPTION:Mugloa Public School Cross Country Carnival held on school grounds
END:VEVENT
TRANSP:TRANSPARENT
END:VCALENDAR
