BEGIN:VCALENDAR
VERSION:2.0
PRODID:-//Department Of Education//fb2996c8-0d59-433e-abc9-2b550a222750
BEGIN:VTIMEZONE
TZID:Australia/Sydney
TZURL:http://tzurl.org/zoneinfo-outlook/Australia/Sydney
X-LIC-LOCATION:Australia/Sydney
BEGIN:STANDARD
TZOFFSETFROM:+1100
TZOFFSETTO:+1000
TZNAME:AEST
DTSTART:19700405T030000
RRULE:FREQ=YEARLY;BYMONTH=4;BYDAY=1SU
END:STANDARD
BEGIN:DAYLIGHT
TZOFFSETFROM:+1000
TZOFFSETTO:+1100
TZNAME:AEDT
DTSTART:19701004T020000
RRULE:FREQ=YEARLY;BYMONTH=10;BYDAY=1SU
END:DAYLIGHT
END:VTIMEZONE
CALSCALE:GREGORIAN
X-WR-TIMEZONE:Australia/Sydney
BEGIN:VEVENT
DTSTART;TZID=Australia/Sydney:20200302T140000
DTEND;TZID=Australia/Sydney:20200302T150000
DTSTAMP:20200302T000000Z
UID:d79e40b1-5ecf-4a99-a78e-74e81aceccec
LOCATION:Western Sydney University 
SUMMARY;LANGUAGE=en-us:First Foot Forward Year 5 & 6
SEQUENCE:0
DESCRIPTION:First Foot Forward Program 2020 Western Sydney University  Year 5 & 6 only
END:VEVENT
TRANSP:TRANSPARENT
END:VCALENDAR
