BEGIN:VCALENDAR
VERSION:2.0
PRODID:-//Department Of Education//6cd3f9c2-08dd-40a0-b861-4dce174b4b38
BEGIN:VTIMEZONE
TZID:Australia/Sydney
TZURL:http://tzurl.org/zoneinfo-outlook/Australia/Sydney
X-LIC-LOCATION:Australia/Sydney
BEGIN:STANDARD
TZOFFSETFROM:+1100
TZOFFSETTO:+1000
TZNAME:AEST
DTSTART:19700405T030000
RRULE:FREQ=YEARLY;BYMONTH=4;BYDAY=1SU
END:STANDARD
BEGIN:DAYLIGHT
TZOFFSETFROM:+1000
TZOFFSETTO:+1100
TZNAME:AEDT
DTSTART:19701004T020000
RRULE:FREQ=YEARLY;BYMONTH=10;BYDAY=1SU
END:DAYLIGHT
END:VTIMEZONE
CALSCALE:GREGORIAN
X-WR-TIMEZONE:Australia/Sydney
BEGIN:VEVENT
DTSTART;TZID=Australia/Sydney:20200228T090000
DTEND;TZID=Australia/Sydney:20200228T100000
DTSTAMP:20200228T000000Z
UID:8234bcfd-896b-4ce9-aade-71d94757b3d9
LOCATION:Mulgoa Public School
SUMMARY;LANGUAGE=en-us:Visitors Assembly 
SEQUENCE:0
DESCRIPTION:Visitors Assembly, we welcome family and friends to attend. Class 4/5/6 & 1/2 will be presenting completed work.
END:VEVENT
TRANSP:TRANSPARENT
END:VCALENDAR
