BEGIN:VCALENDAR
VERSION:2.0
PRODID:-//Department Of Education//09bf361d-67b3-4f75-afdf-156c01e35fa2
BEGIN:VTIMEZONE
TZID:Australia/Sydney
TZURL:http://tzurl.org/zoneinfo-outlook/Australia/Sydney
X-LIC-LOCATION:Australia/Sydney
BEGIN:STANDARD
TZOFFSETFROM:+1100
TZOFFSETTO:+1000
TZNAME:AEST
DTSTART:19700405T030000
RRULE:FREQ=YEARLY;BYMONTH=4;BYDAY=1SU
END:STANDARD
BEGIN:DAYLIGHT
TZOFFSETFROM:+1000
TZOFFSETTO:+1100
TZNAME:AEDT
DTSTART:19701004T020000
RRULE:FREQ=YEARLY;BYMONTH=10;BYDAY=1SU
END:DAYLIGHT
END:VTIMEZONE
CALSCALE:GREGORIAN
X-WR-TIMEZONE:Australia/Sydney
BEGIN:VEVENT
DTSTART;TZID=Australia/Sydney:20200228T084000
DTEND;TZID=Australia/Sydney:20200228T090000
DTSTAMP:20200228T000000Z
UID:9d133083-727e-4ed8-acb3-7dd6fab935ce
LOCATION:Canteen
SUMMARY;LANGUAGE=en-us:P&C hosting Community Breakfast
SEQUENCE:0
DESCRIPTION:Our P&C will be hosting a community breakfast for our families to enjoy before the assembly at 8.40am.
END:VEVENT
TRANSP:TRANSPARENT
END:VCALENDAR
